BEGIN:VCALENDAR
VERSION:2.0
PRODID:-//First United Church - ECPv6.7.0//NONSGML v1.0//EN
CALSCALE:GREGORIAN
METHOD:PUBLISH
X-WR-CALNAME:First United Church
X-ORIGINAL-URL:https://firstuc.org
X-WR-CALDESC:Events for First United Church
REFRESH-INTERVAL;VALUE=DURATION:PT1H
X-Robots-Tag:noindex
X-PUBLISHED-TTL:PT1H
BEGIN:VTIMEZONE
TZID:America/Indiana/Indianapolis
BEGIN:DAYLIGHT
TZOFFSETFROM:-0500
TZOFFSETTO:-0400
TZNAME:EDT
DTSTART:20260308T070000
END:DAYLIGHT
BEGIN:STANDARD
TZOFFSETFROM:-0400
TZOFFSETTO:-0500
TZNAME:EST
DTSTART:20261101T060000
END:STANDARD
END:VTIMEZONE
BEGIN:VEVENT
DTSTART;TZID=America/Indiana/Indianapolis:20260418T083000
DTEND;TZID=America/Indiana/Indianapolis:20260418T100000
DTSTAMP:20260420T050358
CREATED:20260204T160045Z
LAST-MODIFIED:20260204T160045Z
UID:10012179-1776501000-1776506400@firstuc.org
SUMMARY:Al-Anon
DESCRIPTION:
URL:https://firstuc.org/events/al-anon-9/2026-04-18/
LOCATION:Roger Williams Hall
CATEGORIES:Community
END:VEVENT
BEGIN:VEVENT
DTSTART;TZID=America/Indiana/Indianapolis:20260418T090000
DTEND;TZID=America/Indiana/Indianapolis:20260418T133000
DTSTAMP:20260420T050358
CREATED:20260204T160533Z
LAST-MODIFIED:20260204T160533Z
UID:10012278-1776502800-1776519000@firstuc.org
SUMMARY:People's Market
DESCRIPTION:
URL:https://firstuc.org/events/peoples-market-9/2026-04-18/
LOCATION:Fellowship Hall\, 2420 E Third St\, Bloomington\, IN\, 47401\, United States
CATEGORIES:Community
END:VEVENT
BEGIN:VEVENT
DTSTART;TZID=America/Indiana/Indianapolis:20260418T093000
DTEND;TZID=America/Indiana/Indianapolis:20260418T123000
DTSTAMP:20260420T050358
CREATED:20260417T180820Z
LAST-MODIFIED:20260417T180820Z
UID:10013195-1776504600-1776515400@firstuc.org
SUMMARY:Ice Breaker Training
DESCRIPTION:
URL:https://firstuc.org/events/ice-breaker-training/
LOCATION:Room 4
CATEGORIES:Community
END:VEVENT
BEGIN:VEVENT
DTSTART;TZID=America/Indiana/Indianapolis:20260418T120000
DTEND;TZID=America/Indiana/Indianapolis:20260418T160000
DTSTAMP:20260420T050358
CREATED:20260413T193837Z
LAST-MODIFIED:20260413T193837Z
UID:10013193-1776513600-1776528000@firstuc.org
SUMMARY:AA Luncheon
DESCRIPTION:
URL:https://firstuc.org/events/aa-luncheon/
LOCATION:Roger Williams Hall
END:VEVENT
BEGIN:VEVENT
DTSTART;TZID=America/Indiana/Indianapolis:20260418T140000
DTEND;TZID=America/Indiana/Indianapolis:20260418T190000
DTSTAMP:20260420T050358
CREATED:20260309T184622Z
LAST-MODIFIED:20260309T184622Z
UID:10013191-1776520800-1776538800@firstuc.org
SUMMARY:NA Dopeless Divas
DESCRIPTION:
URL:https://firstuc.org/events/na-dopeless-divas/
LOCATION:Fellowship Hall\, 2420 E Third St\, Bloomington\, IN\, 47401\, United States
CATEGORIES:Community
END:VEVENT
END:VCALENDAR